BEGIN:VCALENDAR
PRODID:-//github.com/ical-org/ical.net//NONSGML ical.net 5.1.3//EN
VERSION:2.0
BEGIN:VEVENT
DESCRIPTION:The ArcticNet Network of Centres of Excellence of Canada and i
 ts partners are pleased to welcome the Arctic research community to Vancou
 ver for the 11th ArcticNet Annual Scientific Meeting (ASM2015) to be held 
 from 7 to 11 December 2015 at The Westin Bayshore in Vancouver\, Britis
 h Columbia.
DTEND:20151211T170000Z
DTSTAMP:20260421T033957Z
DTSTART:20151207T080000Z
LAST-MODIFIED:20150824T075618Z
LOCATION:Vancouver\, BC\, Canada
SEQUENCE:0
SUMMARY:11th ArcticNet Annual Scientific Meeting
UID:21cd71cd-8138-4a18-8751-4be31cf1c59d@new.uarctic.org
URL:https://new.uarctic.org/about-us/calendar/11th-arcticnet-annual-scienti
 fic-meeting/
END:VEVENT
END:VCALENDAR
