BEGIN:VCALENDAR
PRODID:-//github.com/ical-org/ical.net//NONSGML ical.net 5.1.3//EN
VERSION:2.0
BEGIN:VEVENT
DESCRIPTION:The University of the Faroe Islands is pleased to announce that
  the 16th Polar law Symposium will be held in Tórshavn\, the capital of t
 he Faroe Islands\, between the 26th and 28th of October 2023\, organized b
 y the Kári á Rógvi Institute for Law and Legal Research.
DTEND:20231028T000000Z
DTSTAMP:20260421T095038Z
DTSTART:20231026T000000Z
LAST-MODIFIED:20230125T122951Z
LOCATION:Tórshavn\, Faroe Islands
SEQUENCE:0
SUMMARY:16th Polar law Symposium
UID:48862a46-a2ac-4159-88bc-2d69844eb532@new.uarctic.org
URL:https://new.uarctic.org/about-us/calendar/16th-polar-law-symposium/
END:VEVENT
END:VCALENDAR
