BEGIN:VCALENDAR
PRODID:-//github.com/ical-org/ical.net//NONSGML ical.net 5.1.3//EN
VERSION:2.0
BEGIN:VEVENT
DESCRIPTION:The ICCH congresses are held every third year in different loca
 tions in the circumpolar area and represent the largest scientific meeting
 s worldwide on circumpolar health.
DTEND:20180815T000000Z
DTSTAMP:20260420T231215Z
DTSTART:20180812T000000Z
LAST-MODIFIED:20170825T135320Z
LOCATION:Copenhagen\, Denmark
SEQUENCE:0
SUMMARY:17th International Congress of Circumpolar Health (ICCH17)
UID:4fee3151-df36-4a7d-b9f1-28a56205f5ac@new.uarctic.org
URL:https://new.uarctic.org/about-us/calendar/17th-international-congress-o
 f-circumpolar-health-icch17/
END:VEVENT
END:VCALENDAR
