BEGIN:VCALENDAR
PRODID:-//github.com/ical-org/ical.net//NONSGML ical.net 5.1.3//EN
VERSION:2.0
BEGIN:VEVENT
DESCRIPTION:The 2nd meeting of the Assembly of UArctic will be held on Frid
 ay May 14\, 2021 as an online event\, and will begin at 9:00 am (UTC/GMT I
 celand time) and will last until 1:00 pm / 13:00. \nThe Assembly meeting 
 starts prior to the 2021 UArctic Congress which will take place May 15 to 
 18\, 2021 in Reykjavik\, Iceland in conjunction with the Arctic Council Mi
 nisterial meeting (May 19-20).
DTEND:20210514T000000Z
DTSTAMP:20260421T020529Z
DTSTART:20210514T000000Z
LAST-MODIFIED:20210318T151622Z
LOCATION:Reykjavik\, Iceland
SEQUENCE:0
SUMMARY:2nd Meeting of the Assembly of UArctic - May 2021
UID:65c25bf4-e9a8-4d66-80d2-b6d8e8579bb7@new.uarctic.org
URL:https://new.uarctic.org/about-us/calendar/2021-meeting-of-the-assembly-
 of-uarctic/
END:VEVENT
END:VCALENDAR
