BEGIN:VCALENDAR
PRODID:-//github.com/ical-org/ical.net//NONSGML ical.net 5.1.3//EN
VERSION:2.0
BEGIN:VEVENT
DESCRIPTION:The 4th UArctic Assembly will be held in Quebec City\, Canada f
 rom May 22-26\, 2023 and hosted by Université Laval.
DTEND:20230526T000000Z
DTSTAMP:20260420T071436Z
DTSTART:20230522T000000Z
LAST-MODIFIED:20230207T081051Z
LOCATION:Quebec City\, Canada
SEQUENCE:0
SUMMARY:2023 UArctic Assembly
UID:55f982af-8415-41a6-865d-96e508fb8251@new.uarctic.org
URL:https://new.uarctic.org/about-us/calendar/2023-uarctic-assembly/
END:VEVENT
END:VCALENDAR
