BEGIN:VCALENDAR
PRODID:-//github.com/ical-org/ical.net//NONSGML ical.net 5.1.3//EN
VERSION:2.0
BEGIN:VEVENT
DESCRIPTION:The Inuit Studies Conference (ISC) is a multidisciplinary and i
 nternational conference that brings together university researchers and st
 udents\, as well as professionals\, directors\, teachers\, decision-makers
 \, etc. from Inuit organizations\, institutions\, and governments. It is t
 he largest academic conference in the world about Inuit peoples and territ
 ories. The conference also includes cultural and artistic activities of in
 terest to the general public.\nThe Université du Québec à Montréal (UQ
 AM) is pleased to welcome the 21st Inuit Studies Conference to Montreal\, 
 from October 3rd to October 6th\, 2019.
DTEND:20191006T000000Z
DTSTAMP:20260421T020125Z
DTSTART:20191003T000000Z
LAST-MODIFIED:20190226T082927Z
LOCATION:Université du Québec à Montréal (UQAM)
SEQUENCE:0
SUMMARY:21st Inuit Studies Conference
UID:b730929d-d2d6-4465-8d29-bf206b5e64d2@new.uarctic.org
URL:https://new.uarctic.org/about-us/calendar/21st-inuit-studies-conference
 /
END:VEVENT
END:VCALENDAR
