BEGIN:VCALENDAR
PRODID:-//github.com/ical-org/ical.net//NONSGML ical.net 5.1.3//EN
VERSION:2.0
BEGIN:VEVENT
DESCRIPTION:\nThe Arctic Circle Assembly will take place on October 17-19\,
  2024\, in Harpa Concert Hall and Conference Centre and the Reykjavik EDIT
 ION\, Iceland.\n\n\n\n
DTEND:20241019T000000Z
DTSTAMP:20260421T105755Z
DTSTART:20241017T000000Z
LAST-MODIFIED:20240822T143337Z
LOCATION:Reykjavik\, Iceland
SEQUENCE:0
SUMMARY:Arctic Circle Assembly 2024
UID:6c36b669-2a03-4ddc-b274-bfc88599a20a@new.uarctic.org
URL:https://new.uarctic.org/about-us/calendar/arctic-circle-assembly-2024/
END:VEVENT
END:VCALENDAR
