BEGIN:VCALENDAR
PRODID:-//github.com/ical-org/ical.net//NONSGML ical.net 5.1.3//EN
VERSION:2.0
BEGIN:VEVENT
DESCRIPTION:The 10th Arctic Design Week will take place from February 19-25
 \, 2018 in Rovaniemi\, Finland. The event is designed by the University of
  Lapland\, the city of Rovaniemi\, Arctic Factory and Rovaniemi Developmen
 t Ltd. Each day\, a series of conferences\, seminars and exhibits will tak
 e place. The highlight of the week is the 4-part MISHMASH conference from 
 21-25 February. 
DTEND:20180225T000000Z
DTSTAMP:20260421T122101Z
DTSTART:20180219T000000Z
LAST-MODIFIED:20180129T115954Z
LOCATION:Rovaniemi\, Finland 
SEQUENCE:0
SUMMARY:Arctic Design Week 2018
UID:3f77022b-b86c-4c12-a560-ed5cfbee60f0@new.uarctic.org
URL:https://new.uarctic.org/about-us/calendar/arctic-design-week-2018/
END:VEVENT
END:VCALENDAR
