BEGIN:VCALENDAR
PRODID:-//github.com/ical-org/ical.net//NONSGML ical.net 5.1.3//EN
VERSION:2.0
BEGIN:VEVENT
DESCRIPTION:Save the date. The Arctic Encounter announces its 2023 flagshi
 p North America convening 29-31 March 2023 in Anchorage\, Alaska.
DTEND:20230331T000000Z
DTSTAMP:20260421T122818Z
DTSTART:20230329T000000Z
LAST-MODIFIED:20221110T125948Z
LOCATION:Anchorage\, Alaska\, USA
SEQUENCE:0
SUMMARY:Arctic Encounter 2023
UID:0371bd69-e25f-4a9e-8267-1d504bd60855@new.uarctic.org
URL:https://new.uarctic.org/about-us/calendar/arctic-encounter-2023/
END:VEVENT
END:VCALENDAR
