BEGIN:VCALENDAR
PRODID:-//github.com/ical-org/ical.net//NONSGML ical.net 5.1.3//EN
VERSION:2.0
BEGIN:VEVENT
DESCRIPTION:The 10th Arctic Frontiers conference\, titled Industry and Envi
 ronment\, will be arranged in Tromsø\, Norway on 24-29 January 2016.
DTEND:20160129T160000Z
DTSTAMP:20260421T230540Z
DTSTART:20160124T080000Z
LAST-MODIFIED:20160527T183404Z
LOCATION:Tromsø\, Norway
SEQUENCE:0
SUMMARY:Arctic Frontiers 2016
UID:6f341b60-3b7f-44a3-8eab-0ad4cd9f5a20@new.uarctic.org
URL:https://new.uarctic.org/about-us/calendar/arctic-frontiers-2016/
END:VEVENT
END:VCALENDAR
