BEGIN:VCALENDAR
PRODID:-//github.com/ical-org/ical.net//NONSGML ical.net 5.1.3//EN
VERSION:2.0
BEGIN:VEVENT
DESCRIPTION:The theme of the 2020 Arctic Frontiers conference is "Power of 
 Knowledge".
DTEND:20200130T000000Z
DTSTAMP:20260421T144102Z
DTSTART:20200126T000000Z
LAST-MODIFIED:20201005T135711Z
LOCATION:Tromsø\, Norway
SEQUENCE:0
SUMMARY:Arctic Frontiers 2020
UID:006e2aa2-6516-4226-879e-95c9163c3c14@new.uarctic.org
URL:https://new.uarctic.org/about-us/calendar/arctic-frontiers-2020/
END:VEVENT
END:VCALENDAR
