BEGIN:VCALENDAR
PRODID:-//github.com/ical-org/ical.net//NONSGML ical.net 5.1.3//EN
VERSION:2.0
BEGIN:VEVENT
DESCRIPTION:Arctic Frontiers 2026 takes place from February 2nd to 5th\, 20
 26 in Tromsø\, Norway.
DTEND:20260205T160000Z
DTSTAMP:20260422T101550Z
DTSTART:20260202T090000Z
LAST-MODIFIED:20250805T113359Z
LOCATION:Tromsø\, Norway
SEQUENCE:0
SUMMARY:Arctic Frontiers 2026: Turn of the Tide
UID:343d1f3c-7704-443c-9d09-a90dd8eda6cf@new.uarctic.org
URL:https://new.uarctic.org/about-us/calendar/arctic-frontiers-2026/
END:VEVENT
END:VCALENDAR
