BEGIN:VCALENDAR
PRODID:-//github.com/ical-org/ical.net//NONSGML ical.net 5.1.3//EN
VERSION:2.0
BEGIN:VEVENT
DESCRIPTION:At Arctic Frontiers 2023 Moving North\, there will be seven sci
 ence themes\, covering a wide range of topics in physical and social scien
 ces.
DTEND:20230202T000000Z
DTSTAMP:20260420T034600Z
DTSTART:20230130T000000Z
LAST-MODIFIED:20220630T171914Z
LOCATION:Tromso\, Norway
SEQUENCE:0
SUMMARY:Arctic Frontiers
UID:59626be8-7975-43a1-983f-7cf208600f0f@new.uarctic.org
URL:https://new.uarctic.org/about-us/calendar/arctic-frontiers/
END:VEVENT
END:VCALENDAR
