BEGIN:VCALENDAR
PRODID:-//github.com/ical-org/ical.net//NONSGML ical.net 5.1.3//EN
VERSION:2.0
BEGIN:VEVENT
DESCRIPTION:Arctic Science Summit Week (ASSW) 2019 will be held on 22-30 Ma
 y 2019 in Arkhangelsk\, Russia.
DTEND:20190530T000000Z
DTSTAMP:20260421T020125Z
DTSTART:20190522T000000Z
LAST-MODIFIED:20180725T075541Z
LOCATION:Arkhangelsk\, Russia
SEQUENCE:0
SUMMARY:Arctic Science Summit Week (ASSW) 2019
UID:f627bbb5-0ff5-4721-989c-7b75514d7c28@new.uarctic.org
URL:https://new.uarctic.org/about-us/calendar/arctic-science-summit-week-as
 sw-2019/
END:VEVENT
END:VCALENDAR
