BEGIN:VCALENDAR
PRODID:-//github.com/ical-org/ical.net//NONSGML ical.net 5.1.3//EN
VERSION:2.0
BEGIN:VEVENT
DESCRIPTION:U.S. National Academies’ Polar Research Board and the Local O
 rganising Committee invite participation in Arctic Science Summit Week (AS
 SW) 2025 in Boulder\, Colorado (USA) from 20–28 March 2025.
DTEND:20250328T000000Z
DTSTAMP:20260420T230836Z
DTSTART:20250320T000000Z
LAST-MODIFIED:20240924T121648Z
LOCATION:Boulder\, Colorado
SEQUENCE:0
SUMMARY:Arctic Science Summit Week (ASSW) 2025
UID:3864c494-75c8-422b-9770-8c569a46ecfb@new.uarctic.org
URL:https://new.uarctic.org/about-us/calendar/arctic-science-summit-week-as
 sw-2025/
END:VEVENT
END:VCALENDAR
