BEGIN:VCALENDAR
PRODID:-//github.com/ical-org/ical.net//NONSGML ical.net 5.1.3//EN
VERSION:2.0
BEGIN:VEVENT
DESCRIPTION:The ‘Arctic: Territory of Dialogue’ International Arctic Fo
 rum provides one of the key platforms for discussing the problems and pros
 pects of the Arctic region at the global level. The event is held with dir
 ect support from the Government of the Russian Federation\, and is designe
 d to bring the global community together in the interests of securing the 
 effective development of the Arctic and improving the lives of Arctic resi
 dents. The Forum is set to take place in St. Petersburg\, Russia from Apri
 l 9-10\, 2019.
DTEND:20190410T000000Z
DTSTAMP:20260421T063037Z
DTSTART:20190409T000000Z
LAST-MODIFIED:20190318T144036Z
LOCATION:Arkhangelsk\, Russian Federation
SEQUENCE:0
SUMMARY:"Arctic: Territory of Dialogue" International Arctic Forum 2019
UID:edda010b-dd39-4724-b859-e458f9fffff9@new.uarctic.org
URL:https://new.uarctic.org/about-us/calendar/arctic-territory-of-dialogue-
 international-arctic-forum-2019/
END:VEVENT
END:VCALENDAR
