BEGIN:VCALENDAR
PRODID:-//github.com/ical-org/ical.net//NONSGML ical.net 5.1.3//EN
VERSION:2.0
BEGIN:VEVENT
DESCRIPTION:The Science\, Scholarship and Practice of Polar Law: Strengthen
 ing ArcticPeoples and Places
DTEND:20150926T090000Z
DTSTAMP:20260420T014816Z
DTSTART:20150923T000000Z
LAST-MODIFIED:20150824T132437Z
LOCATION:Fairbanks/Anchorage\, Alaska\, USA
SEQUENCE:0
SUMMARY:Eighth Polar Law Symposium\, Alaska
UID:7e748889-4392-4b42-8fdb-91475ff582ee@new.uarctic.org
URL:https://new.uarctic.org/about-us/calendar/eighth-polar-law-symposium-al
 aska/
END:VEVENT
END:VCALENDAR
