BEGIN:VCALENDAR
PRODID:-//github.com/ical-org/ical.net//NONSGML ical.net 5.1.3//EN
VERSION:2.0
BEGIN:VEVENT
DESCRIPTION:ICASS X has been postponed to June 15-19\, 2021 due to the COVI
 D-19 outbreak.
DTEND:20210619T180000Z
DTSTAMP:20260421T044405Z
DTSTART:20210615T090000Z
LAST-MODIFIED:20200320T081748Z
LOCATION:Arkhangelsk\, Russia
SEQUENCE:0
SUMMARY:ICASS X
UID:0c426a6e-d881-4a3e-adda-ed36d0a3bd50@new.uarctic.org
URL:https://new.uarctic.org/about-us/calendar/icass-x/
END:VEVENT
END:VCALENDAR
