BEGIN:VCALENDAR
PRODID:-//github.com/ical-org/ical.net//NONSGML ical.net 5.1.3//EN
VERSION:2.0
BEGIN:VEVENT
DESCRIPTION:The second international conference “In the Spirit of the Rov
 aniemi Process: Local and Global Arctic” in Rovaniemi\, Finland will bri
 ng together decision-makers\, scholars\, artists\, designers and students 
 to address these questions and discuss the Arctic in global\, regional and
  local perspectives.
DTEND:20151126T160000Z
DTSTAMP:20260420T093809Z
DTSTART:20151124T080000Z
LAST-MODIFIED:20150309T151145Z
LOCATION:Rovaniemi\, Finland
SEQUENCE:0
SUMMARY:In the Spirit of the Rovaniemi Process
UID:de4c0bf8-9d10-4065-b4e7-02f4be3dc6e8@new.uarctic.org
URL:https://new.uarctic.org/about-us/calendar/in-the-spirit-of-the-rovaniem
 i-process-conference/
END:VEVENT
END:VCALENDAR
