BEGIN:VCALENDAR
PRODID:-//github.com/ical-org/ical.net//NONSGML ical.net 5.1.3//EN
VERSION:2.0
BEGIN:VEVENT
DESCRIPTION:
DTEND:20171215T105125Z
DTSTAMP:20260421T140630Z
DTSTART:20171211T105113Z
LAST-MODIFIED:20170220T095514Z
LOCATION: Québec City Convention Centre\, Québec\, Canada 
SEQUENCE:0
SUMMARY:International Arctic Change 2017 Conference 
UID:307baf83-76aa-425d-b73f-9d78b043d6f9@new.uarctic.org
URL:https://new.uarctic.org/about-us/calendar/international-arctic-change-2
 017-conference/
END:VEVENT
END:VCALENDAR
