BEGIN:VCALENDAR
PRODID:-//github.com/ical-org/ical.net//NONSGML ical.net 5.1.3//EN
VERSION:2.0
BEGIN:VEVENT
DESCRIPTION:The University of the Arctic is pleased to announce the upcomin
 g session of "Meet UArctic"\, our online update and Q&amp\;A meeting for m
 embers.
DTEND:20230301T170000Z
DTSTAMP:20260421T020122Z
DTSTART:20230301T160000Z
LAST-MODIFIED:20230214T142637Z
LOCATION:Online
SEQUENCE:0
SUMMARY:Meet UArctic session on ICARP IV process
UID:1a5141f5-dc31-4342-a21f-020b47d26da3@new.uarctic.org
URL:https://new.uarctic.org/about-us/calendar/meet-uarctic-session-on-icarp
 -iv-process/
END:VEVENT
END:VCALENDAR
