BEGIN:VCALENDAR
PRODID:-//github.com/ical-org/ical.net//NONSGML ical.net 5.1.3//EN
VERSION:2.0
BEGIN:VEVENT
DESCRIPTION:NS@30 conference celebrates innovation in Inuit and Indigenous 
 post-secondary education. Nunavut Sivuniksavut is a unique post-secondary 
 program for Inuit youth from northern Canada\, and the conference is being
  held to mark NS’ 30th anniversary.
DTEND:20150429T160000Z
DTSTAMP:20260421T003954Z
DTSTART:20150427T080000Z
LAST-MODIFIED:20160527T183406Z
LOCATION:Hilton Lac-Leamy\, Gatineau\, QC
SEQUENCE:0
SUMMARY:NS@30 Conference
UID:4667cf49-61ff-48a4-882b-fa562a5f2f4b@new.uarctic.org
URL:https://new.uarctic.org/about-us/calendar/ns-30-conference/
END:VEVENT
END:VCALENDAR
