BEGIN:VCALENDAR
PRODID:-//github.com/ical-org/ical.net//NONSGML ical.net 5.1.3//EN
VERSION:2.0
BEGIN:VEVENT
DESCRIPTION:The One Arctic - One Health Conference 2019 will be held on 07-
 09 February 2019 in Oulu\, Finland.
DTEND:20190209T000000Z
DTSTAMP:20260420T014832Z
DTSTART:20190207T000000Z
LAST-MODIFIED:20181213T121908Z
LOCATION:Oulu\, Finland
SEQUENCE:0
SUMMARY:One Arctic - One Health Conference 2019
UID:bd5d6c94-5a15-44b3-945c-f3f5daf1122e@new.uarctic.org
URL:https://new.uarctic.org/about-us/calendar/one-arctic-one-health-confere
 nce-2019/
END:VEVENT
END:VCALENDAR
