BEGIN:VCALENDAR
PRODID:-//github.com/ical-org/ical.net//NONSGML ical.net 5.1.3//EN
VERSION:2.0
BEGIN:VEVENT
DESCRIPTION:The Conference will be held on 18-20 June 2024 in Helsinki\, Fi
 nland.
DTEND:20240620T000000Z
DTSTAMP:20260420T060935Z
DTSTART:20240618T000000Z
LAST-MODIFIED:20230915T100821Z
LOCATION:Helsinki\, Finland
SEQUENCE:0
SUMMARY:Reimagining Teachers and Teacher Education for Our Futures conferen
 ce
UID:40d9cd18-6ade-4089-964d-159379e718ad@new.uarctic.org
URL:https://new.uarctic.org/about-us/calendar/reimagining-teachers-and-teac
 her-education-for-our-futures-conference/
END:VEVENT
END:VCALENDAR
