BEGIN:VCALENDAR
PRODID:-//github.com/ical-org/ical.net//NONSGML ical.net 5.1.3//EN
VERSION:2.0
BEGIN:VEVENT
DESCRIPTION:The next UArctic Thematic Networks &amp\; UArctic Institutes le
 adership team meeting will be held this year face to face (as hybrid) in R
 ovaniemi at the Arctic Centre (Arktikum building) April 25-27\, 2023 hoste
 d by University of Lapland.
DTEND:20230427T000000Z
DTSTAMP:20260420T093633Z
DTSTART:20230425T000000Z
LAST-MODIFIED:20230120T114136Z
LOCATION:Rovaniemi\, Finland
SEQUENCE:0
SUMMARY:Thematic Networks Leadership Team Meeting
UID:e5189b06-3a5d-48c6-ae7c-816a6116b0fe@new.uarctic.org
URL:https://new.uarctic.org/about-us/calendar/thematic-networks-leadership-
 team-meeting-2023/
END:VEVENT
END:VCALENDAR
