BEGIN:VCALENDAR
PRODID:-//github.com/ical-org/ical.net//NONSGML ical.net 5.1.3//EN
VERSION:2.0
BEGIN:VEVENT
DESCRIPTION:UArctic is organizing the 2023 UArctic Rectors' Meeting\, in pa
 rtnership with the Oceanographic Institute\, Prince Albert I of Monaco Fou
 ndation and University of Versailles Saint-Quentin-en-Yvelines\, in Monaco
  on January 12-13\, 2023.
DTEND:20230113T120000Z
DTSTAMP:20260420T072200Z
DTSTART:20230112T120000Z
LAST-MODIFIED:20221118T084923Z
LOCATION:Monaco
SEQUENCE:0
SUMMARY:UArctic Rectors’ Meeting in Monaco
UID:065847bf-434a-4106-8c83-511fb4c38ef1@new.uarctic.org
URL:https://new.uarctic.org/about-us/calendar/uarctic-rectors-meeting-in-mo
 naco/
END:VEVENT
END:VCALENDAR
