BEGIN:VCALENDAR
PRODID:-//github.com/ical-org/ical.net//NONSGML ical.net 5.1.3//EN
VERSION:2.0
BEGIN:VEVENT
DESCRIPTION:Leads of UArctic's Thematic Networks will meet in Bodø\, Norwa
 y on March 19-20\, 2015 to address issues of common interest and future co
 operative activities.
DTEND:20150320T170000Z
DTSTAMP:20260422T001838Z
DTSTART:20150319T090000Z
LAST-MODIFIED:20161104T104700Z
LOCATION:Bodø\, Norway
SEQUENCE:0
SUMMARY:UArctic Thematic Networks meeting
UID:54d1246a-d198-45fe-b3c5-25a6e3632659@new.uarctic.org
URL:https://new.uarctic.org/about-us/calendar/uarctic-thematic-networks-mee
 ting/
END:VEVENT
END:VCALENDAR
